BEGIN:VCALENDAR
VERSION:2.0
PRODID:-//町田ボーイズ - ECPv6.15.12.2//NONSGML v1.0//EN
CALSCALE:GREGORIAN
METHOD:PUBLISH
X-ORIGINAL-URL:https://machidaboys.com
X-WR-CALDESC:町田ボーイズ のイベント
REFRESH-INTERVAL;VALUE=DURATION:PT1H
X-Robots-Tag:noindex
X-PUBLISHED-TTL:PT1H
BEGIN:VTIMEZONE
TZID:Asia/Tokyo
BEGIN:STANDARD
TZOFFSETFROM:+0900
TZOFFSETTO:+0900
TZNAME:JST
DTSTART:20240101T000000
END:STANDARD
END:VTIMEZONE
BEGIN:VEVENT
DTSTART;TZID=Asia/Tokyo:20250405T080000
DTEND;TZID=Asia/Tokyo:20250405T170000
DTSTAMP:20260423T184151
CREATED:20250401T124918Z
LAST-MODIFIED:20250401T125059Z
UID:3443-1743840000-1743872400@machidaboys.com
SUMMARY:終日練習
DESCRIPTION:新3年生　練習　@町田ボーイズ球場新2年生　練習　@町田ボーイズ球場新1年生　練習　@町田ボーイズ球場　※AM入団式
URL:https://machidaboys.com/event/%e7%b5%82%e6%97%a5%e7%b7%b4%e7%bf%92-18/
END:VEVENT
BEGIN:VEVENT
DTSTART;TZID=Asia/Tokyo:20250406T080000
DTEND;TZID=Asia/Tokyo:20250406T170000
DTSTAMP:20260423T184151
CREATED:20250401T125408Z
LAST-MODIFIED:20250401T125408Z
UID:3446-1743926400-1743958800@machidaboys.com
SUMMARY:関東ボーイズ大会1回戦
DESCRIPTION:新3年生　関東ボーイズ大会 vs 都築中央ボーイズ @習志野八千代ボールパーク新2年生　練習　@町田ボーイズ球場新1年生　練習試合　@町田ボーイズ球場
URL:https://machidaboys.com/event/%e9%96%a2%e6%9d%b1%e3%83%9c%e3%83%bc%e3%82%a4%e3%82%ba%e5%a4%a7%e4%bc%9a1%e5%9b%9e%e6%88%a6/
END:VEVENT
BEGIN:VEVENT
DTSTART;TZID=Asia/Tokyo:20250412T080000
DTEND;TZID=Asia/Tokyo:20250412T170000
DTSTAMP:20260423T184151
CREATED:20250408T021003Z
LAST-MODIFIED:20250408T021009Z
UID:3481-1744444800-1744477200@machidaboys.com
SUMMARY:終日練習
DESCRIPTION:3年生　練習　@町田ボーイズ球場2年生　遠征練習試合　1年生　練習　@町田ボーイズ球場　
URL:https://machidaboys.com/event/%e7%b5%82%e6%97%a5%e7%b7%b4%e7%bf%92-20/
END:VEVENT
BEGIN:VEVENT
DTSTART;TZID=Asia/Tokyo:20250413T080000
DTEND;TZID=Asia/Tokyo:20250413T170000
DTSTAMP:20260423T184151
CREATED:20250408T021149Z
LAST-MODIFIED:20250408T021159Z
UID:3483-1744531200-1744563600@machidaboys.com
SUMMARY:遠征練習試合
DESCRIPTION:3年生　遠征練習試合2年生　練習　@町田ボーイズ球場1年生　練習　@町田ボーイズ球場　
URL:https://machidaboys.com/event/%e9%81%a0%e5%be%81%e7%b7%b4%e7%bf%92%e8%a9%a6%e5%90%88-8/
END:VEVENT
BEGIN:VEVENT
DTSTART;TZID=Asia/Tokyo:20250419T080000
DTEND;TZID=Asia/Tokyo:20250419T170000
DTSTAMP:20260423T184151
CREATED:20250418T003912Z
LAST-MODIFIED:20250418T003923Z
UID:3490-1745049600-1745082000@machidaboys.com
SUMMARY:終日練習
DESCRIPTION:3年生　練習　＠町田ボーイズ球場2年生　練習　@町田ボーイズ球場1年生　練習　@町田ボーイズ球場　
URL:https://machidaboys.com/event/%e7%b5%82%e6%97%a5%e7%b7%b4%e7%bf%92-21/
END:VEVENT
BEGIN:VEVENT
DTSTART;TZID=Asia/Tokyo:20250420T080000
DTEND;TZID=Asia/Tokyo:20250420T170000
DTSTAMP:20260423T184151
CREATED:20250418T004037Z
LAST-MODIFIED:20250418T004047Z
UID:3492-1745136000-1745168400@machidaboys.com
SUMMARY:遠征練習試合
DESCRIPTION:3年生　遠征練習試合2年生　遠征練習試合1年生　練習　@町田ボーイズ球場　
URL:https://machidaboys.com/event/%e9%81%a0%e5%be%81%e7%b7%b4%e7%bf%92%e8%a9%a6%e5%90%88-9/
END:VEVENT
BEGIN:VEVENT
DTSTART;TZID=Asia/Tokyo:20250426T080000
DTEND;TZID=Asia/Tokyo:20250426T170000
DTSTAMP:20260423T184151
CREATED:20250423T234441Z
LAST-MODIFIED:20250423T234452Z
UID:3498-1745654400-1745686800@machidaboys.com
SUMMARY:遠征練習試合
DESCRIPTION:3年生　遠征練習試合2年生　練習　@町田ボーイズ球場　1年生　練習　@町田ボーイズ球場　
URL:https://machidaboys.com/event/%e9%81%a0%e5%be%81%e7%b7%b4%e7%bf%92%e8%a9%a6%e5%90%88-10/
END:VEVENT
BEGIN:VEVENT
DTSTART;TZID=Asia/Tokyo:20250427T080000
DTEND;TZID=Asia/Tokyo:20250427T170000
DTSTAMP:20260423T184151
CREATED:20250423T234635Z
LAST-MODIFIED:20250423T234645Z
UID:3500-1745740800-1745773200@machidaboys.com
SUMMARY:終日練習
DESCRIPTION:3年生　練習　@町田ボーイズ球場2年生　練習　@町田ボーイズ球場　1年生　練習　@町田ボーイズ球場　
URL:https://machidaboys.com/event/%e7%b5%82%e6%97%a5%e7%b7%b4%e7%bf%92-22/
END:VEVENT
BEGIN:VEVENT
DTSTART;TZID=Asia/Tokyo:20250429T080000
DTEND;TZID=Asia/Tokyo:20250429T170000
DTSTAMP:20260423T184151
CREATED:20250423T234759Z
LAST-MODIFIED:20250423T234809Z
UID:3502-1745913600-1745946000@machidaboys.com
SUMMARY:遠征練習試合
DESCRIPTION:3年生　遠征練習試合2年生　遠征練習試合1年生　練習　@町田ボーイズ球場　
URL:https://machidaboys.com/event/%e9%81%a0%e5%be%81%e7%b7%b4%e7%bf%92%e8%a9%a6%e5%90%88-11/
END:VEVENT
END:VCALENDAR