BEGIN:VCALENDAR
VERSION:2.0
PRODID:-//町田ボーイズ - ECPv6.15.12.2//NONSGML v1.0//EN
CALSCALE:GREGORIAN
METHOD:PUBLISH
X-ORIGINAL-URL:https://machidaboys.com
X-WR-CALDESC:町田ボーイズ のイベント
REFRESH-INTERVAL;VALUE=DURATION:PT1H
X-Robots-Tag:noindex
X-PUBLISHED-TTL:PT1H
BEGIN:VTIMEZONE
TZID:Asia/Tokyo
BEGIN:STANDARD
TZOFFSETFROM:+0900
TZOFFSETTO:+0900
TZNAME:JST
DTSTART:20240101T000000
END:STANDARD
END:VTIMEZONE
BEGIN:VEVENT
DTSTART;TZID=Asia/Tokyo:20250824T080000
DTEND;TZID=Asia/Tokyo:20250824T170000
DTSTAMP:20260426T002607
CREATED:20250822T142349Z
LAST-MODIFIED:20250822T144914Z
UID:3674-1756022400-1756054800@machidaboys.com
SUMMARY:終日練習
DESCRIPTION:2年生　練習　@町田ボーイズ球場1年生　練習　@町田ボーイズ球場3年生　練習　@町田ボーイズ球場
URL:https://machidaboys.com/event/%e7%b5%82%e6%97%a5%e7%b7%b4%e7%bf%92-42/
END:VEVENT
BEGIN:VEVENT
DTSTART;TZID=Asia/Tokyo:20250830T080000
DTEND;TZID=Asia/Tokyo:20250830T170000
DTSTAMP:20260426T002607
CREATED:20250826T201238Z
LAST-MODIFIED:20250826T201244Z
UID:3693-1756540800-1756573200@machidaboys.com
SUMMARY:終日練習
DESCRIPTION:2年生　練習　@町田ボーイズ球場1年生　練習　@町田ボーイズ球場3年生　練習　@町田ボーイズ球場
URL:https://machidaboys.com/event/%e7%b5%82%e6%97%a5%e7%b7%b4%e7%bf%92-44/
END:VEVENT
BEGIN:VEVENT
DTSTART;TZID=Asia/Tokyo:20250831T080000
DTEND;TZID=Asia/Tokyo:20250831T170000
DTSTAMP:20260426T002607
CREATED:20250826T201952Z
LAST-MODIFIED:20250826T201957Z
UID:3695-1756627200-1756659600@machidaboys.com
SUMMARY:遠征練習試合
DESCRIPTION:2年生　Aチーム 遠征練習試合 Bチーム 練習　@町田ボーイズ球場　1年生　1年生大会vs世田谷南ボーイズ3年生　練習　@町田ボーイズ球場
URL:https://machidaboys.com/event/%e9%81%a0%e5%be%81%e7%b7%b4%e7%bf%92%e8%a9%a6%e5%90%88-25/
END:VEVENT
BEGIN:VEVENT
DTSTART;TZID=Asia/Tokyo:20250906T080000
DTEND;TZID=Asia/Tokyo:20250906T170000
DTSTAMP:20260426T002607
CREATED:20250901T142017Z
LAST-MODIFIED:20250901T142028Z
UID:3708-1757145600-1757178000@machidaboys.com
SUMMARY:終日練習
DESCRIPTION:2年生　練習　@町田ボーイズ球場1年生　練習　@町田ボーイズ球場3年生　練習　@町田ボーイズ球場
URL:https://machidaboys.com/event/%e7%b5%82%e6%97%a5%e7%b7%b4%e7%bf%92-45/
END:VEVENT
BEGIN:VEVENT
DTSTART;TZID=Asia/Tokyo:20250907T080000
DTEND;TZID=Asia/Tokyo:20250907T170000
DTSTAMP:20260426T002607
CREATED:20250901T142455Z
LAST-MODIFIED:20250901T142459Z
UID:3710-1757232000-1757264400@machidaboys.com
SUMMARY:第37回東日本選抜大会予選
DESCRIPTION:2年生　Aチーム　第37回東日本選抜大会予選vs東京ボーイズ＠西多摩ボーイズグランド2年生　Bチーム　練習　@町田ボーイズ球場1年生　練習　@町田ボーイズ球場3年生　練習　@町田ボーイズ球場
URL:https://machidaboys.com/event/%e7%ac%ac37%e5%9b%9e%e6%9d%b1%e6%97%a5%e6%9c%ac%e9%81%b8%e6%8a%9c%e5%a4%a7%e4%bc%9a%e4%ba%88%e9%81%b8/
END:VEVENT
BEGIN:VEVENT
DTSTART;TZID=Asia/Tokyo:20250913T080000
DTEND;TZID=Asia/Tokyo:20250913T170000
DTSTAMP:20260426T002607
CREATED:20250908T144725Z
LAST-MODIFIED:20250908T145222Z
UID:3716-1757750400-1757782800@machidaboys.com
SUMMARY:終日練習
DESCRIPTION:2年生　Aチーム 練習　@町田ボーイズ球場 Bチーム 遠征練習試合　1年生　練習　@町田ボーイズ球場3年生　練習　@町田ボーイズ球場
URL:https://machidaboys.com/event/%e7%b5%82%e6%97%a5%e7%b7%b4%e7%bf%92-46/
END:VEVENT
BEGIN:VEVENT
DTSTART;TZID=Asia/Tokyo:20250914T080000
DTEND;TZID=Asia/Tokyo:20250914T170000
DTSTAMP:20260426T002607
CREATED:20250908T145048Z
LAST-MODIFIED:20250908T145111Z
UID:3719-1757836800-1757869200@machidaboys.com
SUMMARY:終日練習
DESCRIPTION:2年生　Aチーム 練習　@町田ボーイズ球場 Bチーム 遠征練習試合　1年生　遠征練習試合3年生　練習　@町田ボーイズ球場
URL:https://machidaboys.com/event/%e7%b5%82%e6%97%a5%e7%b7%b4%e7%bf%92-47/
END:VEVENT
BEGIN:VEVENT
DTSTART;TZID=Asia/Tokyo:20250915T080000
DTEND;TZID=Asia/Tokyo:20250915T170000
DTSTAMP:20260426T002607
CREATED:20250908T145554Z
LAST-MODIFIED:20250908T145601Z
UID:3721-1757923200-1757955600@machidaboys.com
SUMMARY:終日練習
DESCRIPTION:2年生　Aチーム  練習　@町田ボーイズ球場 Bチーム  練習　@町田ボーイズ球場1年生　練習　@町田ボーイズ球場3年生　練習　@町田ボーイズ球場
URL:https://machidaboys.com/event/%e7%b5%82%e6%97%a5%e7%b7%b4%e7%bf%92-48/
END:VEVENT
BEGIN:VEVENT
DTSTART;TZID=Asia/Tokyo:20250920T080000
DTEND;TZID=Asia/Tokyo:20250920T170000
DTSTAMP:20260426T002607
CREATED:20250916T153433Z
LAST-MODIFIED:20250916T153439Z
UID:3728-1758355200-1758387600@machidaboys.com
SUMMARY:終日練習
DESCRIPTION:2年生　練習　@町田ボーイズ球場1年生　練習　@町田ボーイズ球場3年生　練習　@町田ボーイズ球場
URL:https://machidaboys.com/event/%e7%b5%82%e6%97%a5%e7%b7%b4%e7%bf%92-49/
END:VEVENT
BEGIN:VEVENT
DTSTART;TZID=Asia/Tokyo:20250921T080000
DTEND;TZID=Asia/Tokyo:20250921T170000
DTSTAMP:20260426T002607
CREATED:20250916T153634Z
LAST-MODIFIED:20250916T154122Z
UID:3730-1758441600-1758474000@machidaboys.com
SUMMARY:終日練習
DESCRIPTION:2年生　Aチーム 練習　@町田ボーイズ球場 Bチーム 遠征練習試合1年生　遠征練習試合3年生　練習　@町田ボーイズ球場
URL:https://machidaboys.com/event/%e7%b5%82%e6%97%a5%e7%b7%b4%e7%bf%92-50/
END:VEVENT
BEGIN:VEVENT
DTSTART;TZID=Asia/Tokyo:20250923T080000
DTEND;TZID=Asia/Tokyo:20250923T170000
DTSTAMP:20260426T002607
CREATED:20250916T153759Z
LAST-MODIFIED:20250916T154009Z
UID:3732-1758614400-1758646800@machidaboys.com
SUMMARY:終日練習
DESCRIPTION:2年生　練習　@町田ボーイズ球場　1年生　練習　@町田ボーイズ球場3年生　練習　@町田ボーイズ球場
URL:https://machidaboys.com/event/%e7%b5%82%e6%97%a5%e7%b7%b4%e7%bf%92-51/
END:VEVENT
BEGIN:VEVENT
DTSTART;TZID=Asia/Tokyo:20250927T080000
DTEND;TZID=Asia/Tokyo:20250927T170000
DTSTAMP:20260426T002607
CREATED:20250923T051417Z
LAST-MODIFIED:20250923T051801Z
UID:3745-1758960000-1758992400@machidaboys.com
SUMMARY:終日練習
DESCRIPTION:2年生　練習　@町田ボーイズ球場1年生　練習　@町田ボーイズ球場3年生　練習　@町田ボーイズ球場
URL:https://machidaboys.com/event/%e7%b5%82%e6%97%a5%e7%b7%b4%e7%bf%92-52/
END:VEVENT
BEGIN:VEVENT
DTSTART;TZID=Asia/Tokyo:20250928T080000
DTEND;TZID=Asia/Tokyo:20250928T170000
DTSTAMP:20260426T002607
CREATED:20250923T052156Z
LAST-MODIFIED:20250923T052413Z
UID:3748-1759046400-1759078800@machidaboys.com
SUMMARY:遠征練習試合
DESCRIPTION:2年生　遠征練習試合1年生　練習試合　@町田ボーイズ球場3年生　練習　@町田ボーイズ球場
URL:https://machidaboys.com/event/%e9%81%a0%e5%be%81%e7%b7%b4%e7%bf%92%e8%a9%a6%e5%90%88-26/
END:VEVENT
BEGIN:VEVENT
DTSTART;TZID=Asia/Tokyo:20251004T080000
DTEND;TZID=Asia/Tokyo:20251004T170000
DTSTAMP:20260426T002607
CREATED:20250929T144415Z
LAST-MODIFIED:20250929T144658Z
UID:3756-1759564800-1759597200@machidaboys.com
SUMMARY:遠征練習試合
DESCRIPTION:2年生　遠征練習試合1年生　練習　@町田ボーイズ球場3年生　練習　@町田ボーイズ球場
URL:https://machidaboys.com/event/%e9%81%a0%e5%be%81%e7%b7%b4%e7%bf%92%e8%a9%a6%e5%90%88-27/
END:VEVENT
BEGIN:VEVENT
DTSTART;TZID=Asia/Tokyo:20251005T080000
DTEND;TZID=Asia/Tokyo:20251005T170000
DTSTAMP:20260426T002607
CREATED:20250929T145106Z
LAST-MODIFIED:20250929T145115Z
UID:3758-1759651200-1759683600@machidaboys.com
SUMMARY:終日練習
DESCRIPTION:2年生　練習　@町田ボーイズ球場1年生　1年生大会vs世田谷ボーイズ @東京都市大学総合グラウンド3年生　練習　@町田ボーイズ球場
URL:https://machidaboys.com/event/%e7%b5%82%e6%97%a5%e7%b7%b4%e7%bf%92-53/
END:VEVENT
BEGIN:VEVENT
DTSTART;TZID=Asia/Tokyo:20251011T080000
DTEND;TZID=Asia/Tokyo:20251011T170000
DTSTAMP:20260426T002607
CREATED:20251006T143725Z
LAST-MODIFIED:20251006T143731Z
UID:3766-1760169600-1760202000@machidaboys.com
SUMMARY:終日練習
DESCRIPTION:2年生　練習　@町田ボーイズ球場1年生　練習　@町田ボーイズ球場3年生　練習　@町田ボーイズ球場
URL:https://machidaboys.com/event/%e7%b5%82%e6%97%a5%e7%b7%b4%e7%bf%92-54/
END:VEVENT
BEGIN:VEVENT
DTSTART;TZID=Asia/Tokyo:20251012T080000
DTEND;TZID=Asia/Tokyo:20251012T170000
DTSTAMP:20260426T002607
CREATED:20251006T143927Z
LAST-MODIFIED:20251006T143934Z
UID:3768-1760256000-1760288400@machidaboys.com
SUMMARY:遠征練習試合
DESCRIPTION:2年生　遠征練習試合1年生　練習　@町田ボーイズ球場3年生　練習　@町田ボーイズ球場
URL:https://machidaboys.com/event/%e9%81%a0%e5%be%81%e7%b7%b4%e7%bf%92%e8%a9%a6%e5%90%88-28/
END:VEVENT
BEGIN:VEVENT
DTSTART;TZID=Asia/Tokyo:20251013T080000
DTEND;TZID=Asia/Tokyo:20251013T170000
DTSTAMP:20260426T002607
CREATED:20251006T144241Z
LAST-MODIFIED:20251006T144247Z
UID:3770-1760342400-1760374800@machidaboys.com
SUMMARY:遠征練習試合
DESCRIPTION:2年生　遠征練習試合1年生　1年生大会vs東村山中央ボーイズ@一本杉球場 3年生　練習　@町田ボーイズ球場
URL:https://machidaboys.com/event/%e9%81%a0%e5%be%81%e7%b7%b4%e7%bf%92%e8%a9%a6%e5%90%88-29/
END:VEVENT
BEGIN:VEVENT
DTSTART;TZID=Asia/Tokyo:20251018T080000
DTEND;TZID=Asia/Tokyo:20251018T170000
DTSTAMP:20260426T002607
CREATED:20251013T144055Z
LAST-MODIFIED:20251013T144101Z
UID:3781-1760774400-1760806800@machidaboys.com
SUMMARY:終日練習
DESCRIPTION:2年生　練習　@町田ボーイズ球場1年生　練習　@町田ボーイズ球場3年生　練習　@町田ボーイズ球場
URL:https://machidaboys.com/event/%e7%b5%82%e6%97%a5%e7%b7%b4%e7%bf%92-55/
END:VEVENT
BEGIN:VEVENT
DTSTART;TZID=Asia/Tokyo:20251019T080000
DTEND;TZID=Asia/Tokyo:20251019T170000
DTSTAMP:20260426T002607
CREATED:20251013T144411Z
LAST-MODIFIED:20251013T144542Z
UID:3783-1760860800-1760893200@machidaboys.com
SUMMARY:遠征練習試合
DESCRIPTION:2年生　遠征練習試合1年生　練習　@町田ボーイズ球場3年生　練習　@町田ボーイズ球場
URL:https://machidaboys.com/event/%e9%81%a0%e5%be%81%e7%b7%b4%e7%bf%92%e8%a9%a6%e5%90%88-30/
END:VEVENT
BEGIN:VEVENT
DTSTART;TZID=Asia/Tokyo:20251025T080000
DTEND;TZID=Asia/Tokyo:20251025T170000
DTSTAMP:20260426T002607
CREATED:20251020T143858Z
LAST-MODIFIED:20251020T143903Z
UID:3788-1761379200-1761411600@machidaboys.com
SUMMARY:終日練習
DESCRIPTION:2年生　練習　@町田ボーイズ球場1年生　練習　@町田ボーイズ球場3年生　練習　@町田ボーイズ球場
URL:https://machidaboys.com/event/%e7%b5%82%e6%97%a5%e7%b7%b4%e7%bf%92-56/
END:VEVENT
BEGIN:VEVENT
DTSTART;TZID=Asia/Tokyo:20251026T080000
DTEND;TZID=Asia/Tokyo:20251026T170000
DTSTAMP:20260426T002607
CREATED:20251020T144444Z
LAST-MODIFIED:20251020T144505Z
UID:3790-1761465600-1761498000@machidaboys.com
SUMMARY:来春全国大会　東京西支部予選
DESCRIPTION:2年生　来春全国大会　東京西支部予選vs あきる野ボーイズ＠秩父大滝グラウンド1年生　練習試合3年生　練習　@町田ボーイズ球場
URL:https://machidaboys.com/event/%e6%9d%a5%e6%98%a5%e5%85%a8%e5%9b%bd%e5%a4%a7%e4%bc%9a%e3%80%80%e6%9d%b1%e4%ba%ac%e8%a5%bf%e6%94%af%e9%83%a8%e4%ba%88%e9%81%b8/
END:VEVENT
BEGIN:VEVENT
DTSTART;TZID=Asia/Tokyo:20251101T080000
DTEND;TZID=Asia/Tokyo:20251101T170000
DTSTAMP:20260426T002607
CREATED:20251028T142057Z
LAST-MODIFIED:20251028T142437Z
UID:3809-1761984000-1762016400@machidaboys.com
SUMMARY:終日練習
DESCRIPTION:2年生　練習　@町田ボーイズ球場1年生　一年生茨城大会予選vs上三川ボーイズvs福島中央ボーイズ＠栃木総合運動公園3年生　練習　@町田ボーイズ球場
URL:https://machidaboys.com/event/%e7%b5%82%e6%97%a5%e7%b7%b4%e7%bf%92-57/
END:VEVENT
BEGIN:VEVENT
DTSTART;TZID=Asia/Tokyo:20251102T080000
DTEND;TZID=Asia/Tokyo:20251102T170000
DTSTAMP:20260426T002607
CREATED:20251028T142633Z
LAST-MODIFIED:20251028T142640Z
UID:3814-1762070400-1762102800@machidaboys.com
SUMMARY:来春全国大会　東京西支部予選
DESCRIPTION:2年生　来春全国大会　東京西支部予選vs あきる野ボーイズ＠秩父大滝グラウンド1年生　練習　@町田ボーイズ球場3年生　練習　@町田ボーイズ球場
URL:https://machidaboys.com/event/%e6%9d%a5%e6%98%a5%e5%85%a8%e5%9b%bd%e5%a4%a7%e4%bc%9a%e3%80%80%e6%9d%b1%e4%ba%ac%e8%a5%bf%e6%94%af%e9%83%a8%e4%ba%88%e9%81%b8-2/
END:VEVENT
BEGIN:VEVENT
DTSTART;TZID=Asia/Tokyo:20251103T080000
DTEND;TZID=Asia/Tokyo:20251103T170000
DTSTAMP:20260426T002607
CREATED:20251028T142806Z
LAST-MODIFIED:20251028T142811Z
UID:3816-1762156800-1762189200@machidaboys.com
SUMMARY:終日練習
DESCRIPTION:2年生　練習　@町田ボーイズ球場1年生　練習　@町田ボーイズ球場3年生　練習　@町田ボーイズ球場
URL:https://machidaboys.com/event/%e7%b5%82%e6%97%a5%e7%b7%b4%e7%bf%92-58/
END:VEVENT
BEGIN:VEVENT
DTSTART;TZID=Asia/Tokyo:20251108T080000
DTEND;TZID=Asia/Tokyo:20251108T170000
DTSTAMP:20260426T002607
CREATED:20251104T142203Z
LAST-MODIFIED:20251104T142209Z
UID:3821-1762588800-1762621200@machidaboys.com
SUMMARY:終日練習
DESCRIPTION:2年生　練習　@町田ボーイズ球場1年生　練習　@町田ボーイズ球場3年生　練習　@町田ボーイズ球場
URL:https://machidaboys.com/event/%e7%b5%82%e6%97%a5%e7%b7%b4%e7%bf%92-59/
END:VEVENT
BEGIN:VEVENT
DTSTART;TZID=Asia/Tokyo:20251109T080000
DTEND;TZID=Asia/Tokyo:20251109T170000
DTSTAMP:20260426T002607
CREATED:20251104T142713Z
LAST-MODIFIED:20251104T142721Z
UID:3823-1762675200-1762707600@machidaboys.com
SUMMARY:来春全国大会　東京西支部予選2回戦
DESCRIPTION:2年生　来春全国大会　東京西支部予選2回戦vs 立川ボーイズ＠西多摩ボーイズグラウンド1年生　練習試合　@町田ボーイズ球場3年生　練習　@町田ボーイズ球場
URL:https://machidaboys.com/event/%e6%9d%a5%e6%98%a5%e5%85%a8%e5%9b%bd%e5%a4%a7%e4%bc%9a%e3%80%80%e6%9d%b1%e4%ba%ac%e8%a5%bf%e6%94%af%e9%83%a8%e4%ba%88%e9%81%b82%e5%9b%9e%e6%88%a6/
END:VEVENT
BEGIN:VEVENT
DTSTART;TZID=Asia/Tokyo:20251115T080000
DTEND;TZID=Asia/Tokyo:20251115T170000
DTSTAMP:20260426T002607
CREATED:20251111T145018Z
LAST-MODIFIED:20251111T145023Z
UID:3828-1763193600-1763226000@machidaboys.com
SUMMARY:終日練習
DESCRIPTION:2年生　練習　@町田ボーイズ球場1年生　練習　@町田ボーイズ球場3年生　練習　@町田ボーイズ球場
URL:https://machidaboys.com/event/%e7%b5%82%e6%97%a5%e7%b7%b4%e7%bf%92-60/
END:VEVENT
BEGIN:VEVENT
DTSTART;TZID=Asia/Tokyo:20251116T080000
DTEND;TZID=Asia/Tokyo:20251116T170000
DTSTAMP:20260426T002607
CREATED:20251111T145348Z
LAST-MODIFIED:20251111T145353Z
UID:3830-1763280000-1763312400@machidaboys.com
SUMMARY:来春全国大会　東京西支部予選準決勝戦
DESCRIPTION:2年生　来春全国大会　東京西支部予選準決勝戦vs 東京ボーイズ＠創価大学ワールドグラウンド1年生　練習　@町田ボーイズ球場3年生　練習　@町田ボーイズ球場
URL:https://machidaboys.com/event/%e6%9d%a5%e6%98%a5%e5%85%a8%e5%9b%bd%e5%a4%a7%e4%bc%9a%e3%80%80%e6%9d%b1%e4%ba%ac%e8%a5%bf%e6%94%af%e9%83%a8%e4%ba%88%e9%81%b8%e6%ba%96%e6%b1%ba%e5%8b%9d%e6%88%a6/
END:VEVENT
BEGIN:VEVENT
DTSTART;TZID=Asia/Tokyo:20251122T080000
DTEND;TZID=Asia/Tokyo:20251122T170000
DTSTAMP:20260426T002607
CREATED:20251117T144348Z
LAST-MODIFIED:20251117T145204Z
UID:3834-1763798400-1763830800@machidaboys.com
SUMMARY:終日練習
DESCRIPTION:2年生　練習　@町田ボーイズ球場1年生　練習　@町田ボーイズ球場3年生　練習　@町田ボーイズ球場
URL:https://machidaboys.com/event/%e7%b5%82%e6%97%a5%e7%b7%b4%e7%bf%92-61/
END:VEVENT
END:VCALENDAR