BEGIN:VCALENDAR
VERSION:2.0
PRODID:-//町田ボーイズ - ECPv6.15.12.2//NONSGML v1.0//EN
CALSCALE:GREGORIAN
METHOD:PUBLISH
X-ORIGINAL-URL:https://machidaboys.com
X-WR-CALDESC:町田ボーイズ のイベント
REFRESH-INTERVAL;VALUE=DURATION:PT1H
X-Robots-Tag:noindex
X-PUBLISHED-TTL:PT1H
BEGIN:VTIMEZONE
TZID:Asia/Tokyo
BEGIN:STANDARD
TZOFFSETFROM:+0900
TZOFFSETTO:+0900
TZNAME:JST
DTSTART:20240101T000000
END:STANDARD
END:VTIMEZONE
BEGIN:VEVENT
DTSTART;TZID=Asia/Tokyo:20250429T080000
DTEND;TZID=Asia/Tokyo:20250429T170000
DTSTAMP:20260424T020738
CREATED:20250423T234759Z
LAST-MODIFIED:20250423T234809Z
UID:3502-1745913600-1745946000@machidaboys.com
SUMMARY:遠征練習試合
DESCRIPTION:3年生　遠征練習試合2年生　遠征練習試合1年生　練習　@町田ボーイズ球場　
URL:https://machidaboys.com/event/%e9%81%a0%e5%be%81%e7%b7%b4%e7%bf%92%e8%a9%a6%e5%90%88-11/
END:VEVENT
BEGIN:VEVENT
DTSTART;TZID=Asia/Tokyo:20250503T080000
DTEND;TZID=Asia/Tokyo:20250503T170000
DTSTAMP:20260424T020738
CREATED:20250430T023848Z
LAST-MODIFIED:20250430T023856Z
UID:3512-1746259200-1746291600@machidaboys.com
SUMMARY:遠征練習試合
DESCRIPTION:3年生　遠征練習試合2年生　練習　@町田ボーイズ球場　1年生　練習　@町田ボーイズ球場　
URL:https://machidaboys.com/event/%e9%81%a0%e5%be%81%e7%b7%b4%e7%bf%92%e8%a9%a6%e5%90%88-12/
END:VEVENT
BEGIN:VEVENT
DTSTART;TZID=Asia/Tokyo:20250504T080000
DTEND;TZID=Asia/Tokyo:20250504T170000
DTSTAMP:20260424T020738
CREATED:20250430T024005Z
LAST-MODIFIED:20250430T024027Z
UID:3514-1746345600-1746378000@machidaboys.com
SUMMARY:終日練習
DESCRIPTION:3年生　練習　@町田ボーイズ球場2年生　練習　@町田ボーイズ球場　1年生　遠征練習試合
URL:https://machidaboys.com/event/%e7%b5%82%e6%97%a5%e7%b7%b4%e7%bf%92-23/
END:VEVENT
BEGIN:VEVENT
DTSTART;TZID=Asia/Tokyo:20250505T080000
DTEND;TZID=Asia/Tokyo:20250505T170000
DTSTAMP:20260424T020738
CREATED:20250430T024128Z
LAST-MODIFIED:20250430T024142Z
UID:3516-1746432000-1746464400@machidaboys.com
SUMMARY:終日練習
DESCRIPTION:3年生　練習　@町田ボーイズ球場2年生　練習　@町田ボーイズ球場　1年生　活動お休み
URL:https://machidaboys.com/event/%e7%b5%82%e6%97%a5%e7%b7%b4%e7%bf%92-24/
END:VEVENT
BEGIN:VEVENT
DTSTART;TZID=Asia/Tokyo:20250506T080000
DTEND;TZID=Asia/Tokyo:20250506T170000
DTSTAMP:20260424T020738
CREATED:20250430T024401Z
LAST-MODIFIED:20250430T024413Z
UID:3518-1746518400-1746550800@machidaboys.com
SUMMARY:終日練習
DESCRIPTION:3年生　練習　@町田ボーイズ球場2年生　活動お休み1年生　練習　@町田ボーイズ球場　
URL:https://machidaboys.com/event/%e7%b5%82%e6%97%a5%e7%b7%b4%e7%bf%92-25/
END:VEVENT
BEGIN:VEVENT
DTSTART;TZID=Asia/Tokyo:20250510T080000
DTEND;TZID=Asia/Tokyo:20250510T170000
DTSTAMP:20260424T020738
CREATED:20250507T111313Z
LAST-MODIFIED:20250507T111320Z
UID:3535-1746864000-1746896400@machidaboys.com
SUMMARY:遠征練習試合
DESCRIPTION:3年生　遠征練習試合2年生　練習　@町田ボーイズ球場　1年生　練習　@町田ボーイズ球場　
URL:https://machidaboys.com/event/%e9%81%a0%e5%be%81%e7%b7%b4%e7%bf%92%e8%a9%a6%e5%90%88-13/
END:VEVENT
BEGIN:VEVENT
DTSTART;TZID=Asia/Tokyo:20250511T080000
DTEND;TZID=Asia/Tokyo:20250511T170000
DTSTAMP:20260424T020738
CREATED:20250507T111447Z
LAST-MODIFIED:20250507T111453Z
UID:3537-1746950400-1746982800@machidaboys.com
SUMMARY:終日練習
DESCRIPTION:3年生　終日練習＠町田ボーイズ球場2年生　終日練習＠町田ボーイズ球場1年生　終日練習＠町田ボーイズ球場
URL:https://machidaboys.com/event/%e7%b5%82%e6%97%a5%e7%b7%b4%e7%bf%92-26/
END:VEVENT
BEGIN:VEVENT
DTSTART;TZID=Asia/Tokyo:20250517T080000
DTEND;TZID=Asia/Tokyo:20250517T170000
DTSTAMP:20260424T020738
CREATED:20250514T001428Z
LAST-MODIFIED:20250514T001433Z
UID:3540-1747468800-1747501200@machidaboys.com
SUMMARY:終日練習
DESCRIPTION:3年生　AM遠征練習　PM練習＠町田ボーイズ球場2年生　終日練習＠町田ボーイズ球場1年生　終日練習＠町田ボーイズ球場
URL:https://machidaboys.com/event/%e7%b5%82%e6%97%a5%e7%b7%b4%e7%bf%92-27/
END:VEVENT
BEGIN:VEVENT
DTSTART;TZID=Asia/Tokyo:20250518T080000
DTEND;TZID=Asia/Tokyo:20250518T170000
DTSTAMP:20260424T020738
CREATED:20250514T001638Z
LAST-MODIFIED:20250514T001645Z
UID:3542-1747555200-1747587600@machidaboys.com
SUMMARY:ジャイアンツカップ東京西支部予選
DESCRIPTION:3年生　ジャイアンツカップ東京西支部予選＠ジャイアンツタウンスタジアム2年生　終日練習＠町田ボーイズ球場1年生　終日練習＠町田ボーイズ球場
URL:https://machidaboys.com/event/%e3%82%b8%e3%83%a3%e3%82%a4%e3%82%a2%e3%83%b3%e3%83%84%e3%82%ab%e3%83%83%e3%83%97%e6%9d%b1%e4%ba%ac%e8%a5%bf%e6%94%af%e9%83%a8%e4%ba%88%e9%81%b8/
END:VEVENT
BEGIN:VEVENT
DTSTART;TZID=Asia/Tokyo:20250524T080000
DTEND;TZID=Asia/Tokyo:20250524T170000
DTSTAMP:20260424T020738
CREATED:20250523T071225Z
LAST-MODIFIED:20250523T071244Z
UID:3548-1748073600-1748106000@machidaboys.com
SUMMARY:遠征練習試合
DESCRIPTION:3年生　遠征練習試合2年生　遠征練習試合　1年生　練習　@町田ボーイズ球場　
URL:https://machidaboys.com/event/%e9%81%a0%e5%be%81%e7%b7%b4%e7%bf%92%e8%a9%a6%e5%90%88-14/
END:VEVENT
BEGIN:VEVENT
DTSTART;TZID=Asia/Tokyo:20250525T080000
DTEND;TZID=Asia/Tokyo:20250525T170000
DTSTAMP:20260424T020738
CREATED:20250523T071508Z
LAST-MODIFIED:20250523T071517Z
UID:3550-1748160000-1748192400@machidaboys.com
SUMMARY:終日練習
DESCRIPTION:3年生　終日練習＠町田ボーイズ球場2年生　終日練習＠町田ボーイズ球場1年生　終日練習＠町田ボーイズ球場
URL:https://machidaboys.com/event/%e7%b5%82%e6%97%a5%e7%b7%b4%e7%bf%92-28/
END:VEVENT
BEGIN:VEVENT
DTSTART;TZID=Asia/Tokyo:20250531T080000
DTEND;TZID=Asia/Tokyo:20250531T170000
DTSTAMP:20260424T020738
CREATED:20250528T004603Z
LAST-MODIFIED:20250528T004615Z
UID:3559-1748678400-1748710800@machidaboys.com
SUMMARY:終日練習
DESCRIPTION:3年生　AM 遠征練習　PM 練習＠町田ボーイズ球場2年生　練習　＠町田ボーイズ球場　1年生　練習　@町田ボーイズ球場
URL:https://machidaboys.com/event/%e7%b5%82%e6%97%a5%e7%b7%b4%e7%bf%92-29/
END:VEVENT
BEGIN:VEVENT
DTSTART;TZID=Asia/Tokyo:20250601T080000
DTEND;TZID=Asia/Tokyo:20250601T170000
DTSTAMP:20260424T020738
CREATED:20250528T004811Z
LAST-MODIFIED:20250528T004831Z
UID:3561-1748764800-1748797200@machidaboys.com
SUMMARY:遠征練習試合
DESCRIPTION:3年生　遠征練習試合2年生　練習　@町田ボーイズ球場1年生　練習　@町田ボーイズ球場
URL:https://machidaboys.com/event/%e9%81%a0%e5%be%81%e7%b7%b4%e7%bf%92%e8%a9%a6%e5%90%88-15/
END:VEVENT
BEGIN:VEVENT
DTSTART;TZID=Asia/Tokyo:20250607T080000
DTEND;TZID=Asia/Tokyo:20250607T170000
DTSTAMP:20260424T020738
CREATED:20250603T002903Z
LAST-MODIFIED:20250603T002917Z
UID:3564-1749283200-1749315600@machidaboys.com
SUMMARY:遠征練習試合
DESCRIPTION:3年生　遠征練習試合2年生　遠征練習試合1年生　練習試合　@町田ボーイズ球場
URL:https://machidaboys.com/event/%e9%81%a0%e5%be%81%e7%b7%b4%e7%bf%92%e8%a9%a6%e5%90%88-16/
END:VEVENT
BEGIN:VEVENT
DTSTART;TZID=Asia/Tokyo:20250608T080000
DTEND;TZID=Asia/Tokyo:20250608T170000
DTSTAMP:20260424T020738
CREATED:20250603T003007Z
LAST-MODIFIED:20250603T004529Z
UID:3566-1749369600-1749402000@machidaboys.com
SUMMARY:終日練習
DESCRIPTION:3年生　練習　@町田ボーイズ球場2年生　練習　@町田ボーイズ球場1年生　練習　@町田ボーイズ球場
URL:https://machidaboys.com/event/%e7%b5%82%e6%97%a5%e7%b7%b4%e7%bf%92-30/
END:VEVENT
BEGIN:VEVENT
DTSTART;TZID=Asia/Tokyo:20250614T080000
DTEND;TZID=Asia/Tokyo:20250614T170000
DTSTAMP:20260424T020738
CREATED:20250609T231645Z
LAST-MODIFIED:20250609T231656Z
UID:3576-1749888000-1749920400@machidaboys.com
SUMMARY:終日練習
DESCRIPTION:3年生　練習　@町田ボーイズ球場2年生　練習　@町田ボーイズ球場1年生　練習　@町田ボーイズ球場
URL:https://machidaboys.com/event/%e7%b5%82%e6%97%a5%e7%b7%b4%e7%bf%92-31/
END:VEVENT
BEGIN:VEVENT
DTSTART;TZID=Asia/Tokyo:20250615T080000
DTEND;TZID=Asia/Tokyo:20250615T170000
DTSTAMP:20260424T020738
CREATED:20250609T232520Z
LAST-MODIFIED:20250609T232530Z
UID:3578-1749974400-1750006800@machidaboys.com
SUMMARY:第56回 日本少年野球選手権大会 東京都西支部予選 1回戦
DESCRIPTION:3年生　東京都西支部予選 1回戦 VS東京ボーイズ ＠駒沢高校グランド2年生　練習　@町田ボーイズ球場1年生　練習試合　@町田ボーイズ球場
URL:https://machidaboys.com/event/%e7%ac%ac56%e5%9b%9e-%e6%97%a5%e6%9c%ac%e5%b0%91%e5%b9%b4%e9%87%8e%e7%90%83%e9%81%b8%e6%89%8b%e6%a8%a9%e5%a4%a7%e4%bc%9a-%e6%9d%b1%e4%ba%ac%e9%83%bd%e8%a5%bf%e6%94%af%e9%83%a8%e4%ba%88%e9%81%b8-1/
END:VEVENT
BEGIN:VEVENT
DTSTART;TZID=Asia/Tokyo:20250621T080000
DTEND;TZID=Asia/Tokyo:20250621T170000
DTSTAMP:20260424T020738
CREATED:20250619T234712Z
LAST-MODIFIED:20250619T234739Z
UID:3585-1750492800-1750525200@machidaboys.com
SUMMARY:終日練習
DESCRIPTION:3年生　練習　@町田ボーイズ球場2年生　練習　@町田ボーイズ球場1年生　練習　@町田ボーイズ球場
URL:https://machidaboys.com/event/%e7%b5%82%e6%97%a5%e7%b7%b4%e7%bf%92-32/
END:VEVENT
BEGIN:VEVENT
DTSTART;TZID=Asia/Tokyo:20250622T080000
DTEND;TZID=Asia/Tokyo:20250622T170000
DTSTAMP:20260424T020738
CREATED:20250619T235103Z
LAST-MODIFIED:20250619T235434Z
UID:3587-1750579200-1750611600@machidaboys.com
SUMMARY:第56回 日本少年野球選手権大会 東京都西支部予選 2回戦(3回戦)
DESCRIPTION:3年生　東京都西支部予選 2回戦 VS立川ボーイズ ＠秩父大滝グランド(勝利時3回戦)2年生　練習　@町田ボーイズ球場1年生　練習　@町田ボーイズ球場
URL:https://machidaboys.com/event/%e7%ac%ac56%e5%9b%9e-%e6%97%a5%e6%9c%ac%e5%b0%91%e5%b9%b4%e9%87%8e%e7%90%83%e9%81%b8%e6%89%8b%e6%a8%a9%e5%a4%a7%e4%bc%9a-%e6%9d%b1%e4%ba%ac%e9%83%bd%e8%a5%bf%e6%94%af%e9%83%a8%e4%ba%88%e9%81%b8-2/
END:VEVENT
BEGIN:VEVENT
DTSTART;TZID=Asia/Tokyo:20250628T080000
DTEND;TZID=Asia/Tokyo:20250628T170000
DTSTAMP:20260424T020738
CREATED:20250624T002259Z
LAST-MODIFIED:20250624T002307Z
UID:3594-1751097600-1751130000@machidaboys.com
SUMMARY:終日練習
DESCRIPTION:2年生　遠征練習1年生　練習　@町田ボーイズ球場3年生　練習　@町田ボーイズ球場
URL:https://machidaboys.com/event/%e7%b5%82%e6%97%a5%e7%b7%b4%e7%bf%92-33/
END:VEVENT
BEGIN:VEVENT
DTSTART;TZID=Asia/Tokyo:20250629T080000
DTEND;TZID=Asia/Tokyo:20250629T170000
DTSTAMP:20260424T020738
CREATED:20250624T002345Z
LAST-MODIFIED:20250624T002349Z
UID:3596-1751184000-1751216400@machidaboys.com
SUMMARY:終日練習
DESCRIPTION:2年生　遠征練習1年生　練習　@町田ボーイズ球場3年生　練習　@町田ボーイズ球場
URL:https://machidaboys.com/event/%e7%b5%82%e6%97%a5%e7%b7%b4%e7%bf%92-34/
END:VEVENT
BEGIN:VEVENT
DTSTART;TZID=Asia/Tokyo:20250705T080000
DTEND;TZID=Asia/Tokyo:20250705T170000
DTSTAMP:20260424T020738
CREATED:20250704T132717Z
LAST-MODIFIED:20250704T132728Z
UID:3599-1751702400-1751734800@machidaboys.com
SUMMARY:遠征練習試合
DESCRIPTION:2年生　遠征練習試合1年生　練習試合　@町田ボーイズ球場3年生　練習　@町田ボーイズ球場
URL:https://machidaboys.com/event/%e9%81%a0%e5%be%81%e7%b7%b4%e7%bf%92%e8%a9%a6%e5%90%88-17/
END:VEVENT
BEGIN:VEVENT
DTSTART;TZID=Asia/Tokyo:20250706T080000
DTEND;TZID=Asia/Tokyo:20250706T170000
DTSTAMP:20260424T020738
CREATED:20250704T132815Z
LAST-MODIFIED:20250704T132907Z
UID:3601-1751788800-1751821200@machidaboys.com
SUMMARY:終日練習
DESCRIPTION:2年生　練習　@町田ボーイズ球場1年生　練習　@町田ボーイズ球場3年生　練習　@町田ボーイズ球場
URL:https://machidaboys.com/event/%e7%b5%82%e6%97%a5%e7%b7%b4%e7%bf%92-35/
END:VEVENT
BEGIN:VEVENT
DTSTART;TZID=Asia/Tokyo:20250712T080000
DTEND;TZID=Asia/Tokyo:20250712T170000
DTSTAMP:20260424T020738
CREATED:20250707T143020Z
LAST-MODIFIED:20250707T143029Z
UID:3607-1752307200-1752339600@machidaboys.com
SUMMARY:終日練習
DESCRIPTION:2年生　練習　@町田ボーイズ球場1年生　練習　@町田ボーイズ球場3年生　練習　@町田ボーイズ球場
URL:https://machidaboys.com/event/%e7%b5%82%e6%97%a5%e7%b7%b4%e7%bf%92-36/
END:VEVENT
BEGIN:VEVENT
DTSTART;TZID=Asia/Tokyo:20250713T080000
DTEND;TZID=Asia/Tokyo:20250713T170000
DTSTAMP:20260424T020738
CREATED:20250707T143722Z
LAST-MODIFIED:20250707T143736Z
UID:3610-1752393600-1752426000@machidaboys.com
SUMMARY:遠征練習試合
DESCRIPTION:2年生　遠征練習試合1年生　練習試合　@町田ボーイズ球場3年生　練習　@町田ボーイズ球場
URL:https://machidaboys.com/event/%e9%81%a0%e5%be%81%e7%b7%b4%e7%bf%92%e8%a9%a6%e5%90%88-18/
END:VEVENT
BEGIN:VEVENT
DTSTART;TZID=Asia/Tokyo:20250719T080000
DTEND;TZID=Asia/Tokyo:20250719T170000
DTSTAMP:20260424T020738
CREATED:20250714T141719Z
LAST-MODIFIED:20250714T141725Z
UID:3621-1752912000-1752944400@machidaboys.com
SUMMARY:遠征練習試合
DESCRIPTION:2年生　遠征練習試合1年生　遠征練習試合3年生　遠征練習試合
URL:https://machidaboys.com/event/%e9%81%a0%e5%be%81%e7%b7%b4%e7%bf%92%e8%a9%a6%e5%90%88-19/
END:VEVENT
BEGIN:VEVENT
DTSTART;TZID=Asia/Tokyo:20250720T080000
DTEND;TZID=Asia/Tokyo:20250720T170000
DTSTAMP:20260424T020738
CREATED:20250714T142123Z
LAST-MODIFIED:20250714T142128Z
UID:3623-1752998400-1753030800@machidaboys.com
SUMMARY:遠征練習試合
DESCRIPTION:2年生　遠征練習試合1年生　遠征練習試合3年生　練習　@町田ボーイズ球場
URL:https://machidaboys.com/event/%e9%81%a0%e5%be%81%e7%b7%b4%e7%bf%92%e8%a9%a6%e5%90%88-20/
END:VEVENT
BEGIN:VEVENT
DTSTART;TZID=Asia/Tokyo:20250721T080000
DTEND;TZID=Asia/Tokyo:20250721T170000
DTSTAMP:20260424T020738
CREATED:20250714T142808Z
LAST-MODIFIED:20250722T142435Z
UID:3625-1753084800-1753117200@machidaboys.com
SUMMARY:終日練習
DESCRIPTION:2年生　AM遠征練習　PM練習＠町田ボーイズ球場1年生　終日練習＠町田ボーイズ球場3年生　第23回スポーツマリオ杯西東京大会VS西多摩ボーイズ　＠西多摩ボーイズグラウンド
URL:https://machidaboys.com/event/%e7%b5%82%e6%97%a5%e7%b7%b4%e7%bf%92-37/
END:VEVENT
BEGIN:VEVENT
DTSTART;TZID=Asia/Tokyo:20250726T080000
DTEND;TZID=Asia/Tokyo:20250726T170000
DTSTAMP:20260424T020738
CREATED:20250722T143044Z
LAST-MODIFIED:20250722T143048Z
UID:3632-1753516800-1753549200@machidaboys.com
SUMMARY:遠征練習試合
DESCRIPTION:2年生　遠征練習試合1年生　練習試合　@町田ボーイズ球場3年生　第23回スポーツマリオ杯西東京大会　＠小野地球場
URL:https://machidaboys.com/event/%e9%81%a0%e5%be%81%e7%b7%b4%e7%bf%92%e8%a9%a6%e5%90%88-21/
END:VEVENT
BEGIN:VEVENT
DTSTART;TZID=Asia/Tokyo:20250727T080000
DTEND;TZID=Asia/Tokyo:20250727T170000
DTSTAMP:20260424T020738
CREATED:20250722T143426Z
LAST-MODIFIED:20250722T143431Z
UID:3634-1753603200-1753635600@machidaboys.com
SUMMARY:終日練習
DESCRIPTION:2年生　練習　@町田ボーイズ球場1年生　練習　@町田ボーイズ球場3年生　第23回スポーツマリオ杯西東京大会　＠小野地球場
URL:https://machidaboys.com/event/%e7%b5%82%e6%97%a5%e7%b7%b4%e7%bf%92-38/
END:VEVENT
END:VCALENDAR